BEGIN:VCALENDAR
VERSION:2.0
PRODID:-//LandFrauen Beuren-Balzholz e.V. - ECPv6.15.17.1//NONSGML v1.0//EN
CALSCALE:GREGORIAN
METHOD:PUBLISH
X-WR-CALNAME:LandFrauen Beuren-Balzholz e.V.
X-ORIGINAL-URL:https://landfrauen-beuren.de
X-WR-CALDESC:Veranstaltungen für LandFrauen Beuren-Balzholz e.V.
REFRESH-INTERVAL;VALUE=DURATION:PT1H
X-Robots-Tag:noindex
X-PUBLISHED-TTL:PT1H
BEGIN:VTIMEZONE
TZID:Europe/Berlin
BEGIN:DAYLIGHT
TZOFFSETFROM:+0100
TZOFFSETTO:+0200
TZNAME:CEST
DTSTART:20250330T010000
END:DAYLIGHT
BEGIN:STANDARD
TZOFFSETFROM:+0200
TZOFFSETTO:+0100
TZNAME:CET
DTSTART:20251026T010000
END:STANDARD
BEGIN:DAYLIGHT
TZOFFSETFROM:+0100
TZOFFSETTO:+0200
TZNAME:CEST
DTSTART:20260329T010000
END:DAYLIGHT
BEGIN:STANDARD
TZOFFSETFROM:+0200
TZOFFSETTO:+0100
TZNAME:CET
DTSTART:20261025T010000
END:STANDARD
BEGIN:DAYLIGHT
TZOFFSETFROM:+0100
TZOFFSETTO:+0200
TZNAME:CEST
DTSTART:20270328T010000
END:DAYLIGHT
BEGIN:STANDARD
TZOFFSETFROM:+0200
TZOFFSETTO:+0100
TZNAME:CET
DTSTART:20271031T010000
END:STANDARD
END:VTIMEZONE
BEGIN:VEVENT
DTSTART;TZID=Europe/Berlin:20261130T193000
DTEND;TZID=Europe/Berlin:20261130T210000
DTSTAMP:20260420T132931
CREATED:20260302T183251Z
LAST-MODIFIED:20260302T183251Z
UID:3760-1796067000-1796072400@landfrauen-beuren.de
SUMMARY:Fake News erkennen
DESCRIPTION:Fake-News setzt sich aus zwei begriffen zusammen. „Fake“ heißt „gefälscht“ und „news“ heißt „Nachrichten“. Es geht also um gefälschte Nachrichten. Mit reißerischen Schlagzeilen\, gefälschten Bildern und Behauptungen werden so Lügen und Propaganda verbreitet. Kai Müller von der NTZ klärt auf.
URL:https://landfrauen-beuren.de/termin/fake-news-erkennen/
LOCATION:Bürgerhaus »Alte Schule«\, Owener Straße 7\, Beuren\, Baden-Württemberg\, 72660
ATTACH;FMTTYPE=image/png:https://landfrauen-beuren.de/wp-content/uploads/2025/02/lfv_farbe-05.png
ORGANIZER;CN="LandFrauen Beuren Balzholz e.V.":MAILTO:info@landfrauen-beuren.de
END:VEVENT
END:VCALENDAR