BEGIN:VCALENDAR
VERSION:2.0
PRODID:-//LandFrauen Beuren-Balzholz e.V. - ECPv6.15.17.1//NONSGML v1.0//EN
CALSCALE:GREGORIAN
METHOD:PUBLISH
X-WR-CALNAME:LandFrauen Beuren-Balzholz e.V.
X-ORIGINAL-URL:https://landfrauen-beuren.de
X-WR-CALDESC:Veranstaltungen für LandFrauen Beuren-Balzholz e.V.
REFRESH-INTERVAL;VALUE=DURATION:PT1H
X-Robots-Tag:noindex
X-PUBLISHED-TTL:PT1H
BEGIN:VTIMEZONE
TZID:Europe/Berlin
BEGIN:DAYLIGHT
TZOFFSETFROM:+0100
TZOFFSETTO:+0200
TZNAME:CEST
DTSTART:20250330T010000
END:DAYLIGHT
BEGIN:STANDARD
TZOFFSETFROM:+0200
TZOFFSETTO:+0100
TZNAME:CET
DTSTART:20251026T010000
END:STANDARD
BEGIN:DAYLIGHT
TZOFFSETFROM:+0100
TZOFFSETTO:+0200
TZNAME:CEST
DTSTART:20260329T010000
END:DAYLIGHT
BEGIN:STANDARD
TZOFFSETFROM:+0200
TZOFFSETTO:+0100
TZNAME:CET
DTSTART:20261025T010000
END:STANDARD
BEGIN:DAYLIGHT
TZOFFSETFROM:+0100
TZOFFSETTO:+0200
TZNAME:CEST
DTSTART:20270328T010000
END:DAYLIGHT
BEGIN:STANDARD
TZOFFSETFROM:+0200
TZOFFSETTO:+0100
TZNAME:CET
DTSTART:20271031T010000
END:STANDARD
END:VTIMEZONE
BEGIN:VEVENT
DTSTART;TZID=Europe/Berlin:20261116T193000
DTEND;TZID=Europe/Berlin:20261116T210000
DTSTAMP:20260420T133403
CREATED:20260302T182753Z
LAST-MODIFIED:20260302T182753Z
UID:3756-1794857400-1794862800@landfrauen-beuren.de
SUMMARY:Glücksspiel und Glücksspielsucht in Deutschland
DESCRIPTION:Ein breites Angebot von Glücksspielen wie z.B.: Lotto\, Rubbellose\, Sportwetten\, Casino-\, Online-\, Automaten-\, Gewinnspiele usw. wird beleuchtet. \nWer spielt? Wo wird gespielt? Wie ist das Suchtverhalten? Wie schützt man junge Erwachsene? Welche Glücksspielunternehmen gibt es? 
URL:https://landfrauen-beuren.de/termin/gluecksspiel-und-gluecksspielsucht-in-deutschland/
LOCATION:Bürgerhaus »Alte Schule«\, Owener Straße 7\, Beuren\, Baden-Württemberg\, 72660
ORGANIZER;CN="LandFrauen Beuren Balzholz e.V.":MAILTO:info@landfrauen-beuren.de
END:VEVENT
END:VCALENDAR